BEGIN:VCALENDAR
VERSION:2.0
PRODID:-//Dyslexia,remedial institute in India,Holistic child development institute,Dyscalculia,dyslexia  centers in chennai - ECPv6.9.0//NONSGML v1.0//EN
CALSCALE:GREGORIAN
METHOD:PUBLISH
X-WR-CALNAME:Dyslexia,remedial institute in India,Holistic child development institute,Dyscalculia,dyslexia  centers in chennai
X-ORIGINAL-URL:https://diksa.co.in
X-WR-CALDESC:Events for Dyslexia,remedial institute in India,Holistic child development institute,Dyscalculia,dyslexia  centers in chennai
REFRESH-INTERVAL;VALUE=DURATION:PT1H
X-Robots-Tag:noindex
X-PUBLISHED-TTL:PT1H
BEGIN:VTIMEZONE
TZID:UTC
BEGIN:STANDARD
TZOFFSETFROM:+0000
TZOFFSETTO:+0000
TZNAME:UTC
DTSTART:20180101T000000
END:STANDARD
END:VTIMEZONE
BEGIN:VEVENT
DTSTART;TZID=UTC:20180407T100000
DTEND;TZID=UTC:20250407T113000
DTSTAMP:20260421T130220
CREATED:20150716T094936Z
LAST-MODIFIED:20170925T061236Z
UID:4816-1523095200-1744025400@diksa.co.in
SUMMARY:Elite group organization
DESCRIPTION:Nulla sagittis arcu et risus eleifend eleifend. Integer id maximus nibh. Sed non enim fringilla\, mollis ex non\, vestibulum neque. Sed non lacus nisl. Pellentesque lobortis risus in convallis tempor. Cras ultricies lectus sit amet est convallis rutrum. Praesent non ultrices nibh\, a interdum sem. Nulla dui ligula\, malesuada sed ante a\, scelerisque tristique nibh. Vivamus nec dapibus dui. Maecenas non cursus metus. \nSed non enim fringilla\, mollis ex non\, vestibulum neque. Sed non lacus nisl. Pellentesque lobortis risus in convallis tempor. Cras ultricies lectus sit amet est convallis rutrum. Praesent non ultrices nibh\, a interdum sem. Nulla dui ligula\, malesuada sed ante a\, scelerisque tristique nibh. Vivamus nec dapibus dui. Maecenas non cursus metus.
URL:https://diksa.co.in/event/elite-group-organization/
LOCATION:Houston\, Texas\, Avalanche\, Ooty\, 87455\, India
CATEGORIES:Education,Service
ATTACH;FMTTYPE=image/jpeg:https://diksa.co.in/wp-content/uploads/2015/02/event6.jpg
ORGANIZER;CN="Matthew Kate":MAILTO:ram@iamd.com
END:VEVENT
END:VCALENDAR